BEGIN:VCALENDAR
VERSION:2.0
PRODID:-//Associação dos Serviços Sociais e Culturais dos Trabalhadores do Município de Palmela - ECPv4.5.8.1//NONSGML v1.0//EN
CALSCALE:GREGORIAN
METHOD:PUBLISH
X-WR-CALNAME:Associação dos Serviços Sociais e Culturais dos Trabalhadores do Município de Palmela
X-ORIGINAL-URL:https://www.assctmp.pt
X-WR-CALDESC:Events for Associação dos Serviços Sociais e Culturais dos Trabalhadores do Município de Palmela
BEGIN:VEVENT
DTSTART;TZID=UTC+0:20190829T170000
DTEND;TZID=UTC+0:20190903T233000
DTSTAMP:20260423T104208
CREATED:20190708T092825Z
LAST-MODIFIED:20190708T092825Z
UID:1652-1567098000-1567553400@www.assctmp.pt
SUMMARY:57ª Edição Festa das Vindimas - Palmela 2019
DESCRIPTION:57ª Edição Festa das Vindimas – Palmela 2019\n\n	Relacionado\n
URL:https://www.assctmp.pt/event/57a-edicao-festa-das-vindimas-palmela-2019/
ATTACH;FMTTYPE=image/jpeg:https://www.assctmp.pt/wp-content/uploads/56624545_2383918394960249_8674996002685452288_n.jpg
END:VEVENT
END:VCALENDAR