BEGIN:VCALENDAR
VERSION:2.0
PRODID:-//Associação dos Serviços Sociais e Culturais dos Trabalhadores do Município de Palmela - ECPv4.5.8.1//NONSGML v1.0//EN
CALSCALE:GREGORIAN
METHOD:PUBLISH
X-WR-CALNAME:Associação dos Serviços Sociais e Culturais dos Trabalhadores do Município de Palmela
X-ORIGINAL-URL:https://www.assctmp.pt
X-WR-CALDESC:Events for Associação dos Serviços Sociais e Culturais dos Trabalhadores do Município de Palmela
BEGIN:VEVENT
DTSTART;VALUE=DATE:20180928
DTEND;VALUE=DATE:20180930
DTSTAMP:20260424T053758
CREATED:20180813T105130Z
LAST-MODIFIED:20180813T105130Z
UID:1400-1538092800-1538351999@www.assctmp.pt
SUMMARY:FEIRA MEDIEVAL PALMELA - 2018
DESCRIPTION:FEIRA MEDIEVAL PALMELA – 2018\n\n	Relacionado\n
URL:https://www.assctmp.pt/event/feira-medieval-palmela-2018/
END:VEVENT
END:VCALENDAR