BEGIN:VCALENDAR
VERSION:2.0
PRODID:-//Associação dos Serviços Sociais e Culturais dos Trabalhadores do Município de Palmela - ECPv4.5.8.1//NONSGML v1.0//EN
CALSCALE:GREGORIAN
METHOD:PUBLISH
X-WR-CALNAME:Associação dos Serviços Sociais e Culturais dos Trabalhadores do Município de Palmela
X-ORIGINAL-URL:https://www.assctmp.pt
X-WR-CALDESC:Events for Associação dos Serviços Sociais e Culturais dos Trabalhadores do Município de Palmela
BEGIN:VEVENT
DTSTART;VALUE=DATE:20180830
DTEND;VALUE=DATE:20180904
DTSTAMP:20260424T054207
CREATED:20180813T104520Z
LAST-MODIFIED:20180813T104520Z
UID:1393-1535587200-1536105599@www.assctmp.pt
SUMMARY:FESTA DAS VINDIMAS 2018 - PALMELA
DESCRIPTION:FESTA DAS VINDIMAS 2018 – PALMELA\n\n	Relacionado\n
URL:https://www.assctmp.pt/event/festa-das-vindimas-2018-palmela/
LOCATION:Portugal
ATTACH;FMTTYPE=image/jpeg:https://www.assctmp.pt/wp-content/uploads/cartaz-vindimas-2018.jpg
END:VEVENT
END:VCALENDAR